BEGIN:VCALENDAR
VERSION:2.0
PRODID:-//wp-events-plugin.com//7.2.3.1//EN
TZID:America/Chicago
X-WR-TIMEZONE:America/Chicago
BEGIN:VEVENT
UID:383@vfw9662.org
DTSTART;TZID=America/Chicago:20260520T180000
DTEND;TZID=America/Chicago:20260520T200000
DTSTAMP:20260421T203638Z
URL:https://vfw9662.org/events/wednesday-night-meals-3-2026-05-13/
SUMMARY:Wednesday Night Meal
DESCRIPTION:Enjoy a home cooked comfort meal. Cost to be determined by fair
  market value of the meal. Dine in or carry out\, while supplies last.\nOc
 curs the 3rd Wednesday May\, June\, July &amp\; August.
LOCATION:VFW Post 9662\, 1309 NE 66th Ave\, Des Moines\, IA\, 50313\, Unite
 d States
X-APPLE-STRUCTURED-LOCATION;VALUE=URI;X-ADDRESS=1309 NE 66th Ave\, Des Moin
 es\, IA\, 50313\, United States;X-APPLE-RADIUS=100;X-TITLE=VFW Post 9662:g
 eo:0,0
END:VEVENT
BEGIN:VTIMEZONE
TZID:America/Chicago
X-LIC-LOCATION:America/Chicago
BEGIN:DAYLIGHT
DTSTART:20260308T030000
TZOFFSETFROM:-0600
TZOFFSETTO:-0500
TZNAME:CDT
END:DAYLIGHT
END:VTIMEZONE
END:VCALENDAR