BEGIN:VCALENDAR
VERSION:2.0
PRODID:-//wp-events-plugin.com//7.2.3.1//EN
TZID:America/Chicago
X-WR-TIMEZONE:America/Chicago
BEGIN:VEVENT
UID:365@vfw9662.org
DTSTART;TZID=America/Chicago:20251119T000000
DTEND;TZID=America/Chicago:20251216T000000
DTSTAMP:20251119T214957Z
URL:https://vfw9662.org/events/toys-for-tots-drive/
SUMMARY:TOYS FOR TOTS DRIVE
DESCRIPTION:Bring a new unwrapped toy to our drop box during business hours
 .  Toys will be delivered to Toys for Tots on December 16th. Please no st
 uffed animals or realistic firearms.  *BINGO FANS* check out the special 
 event happening December 5th &amp\; 12th
LOCATION:VFW Post 9662\, 1309 NE 66th Ave\, Des Moines\, IA\, 50313\, Unite
 d States
X-APPLE-STRUCTURED-LOCATION;VALUE=URI;X-ADDRESS=1309 NE 66th Ave\, Des Moin
 es\, IA\, 50313\, United States;X-APPLE-RADIUS=100;X-TITLE=VFW Post 9662:g
 eo:0,0
END:VEVENT
BEGIN:VTIMEZONE
TZID:America/Chicago
X-LIC-LOCATION:America/Chicago
BEGIN:STANDARD
DTSTART:20251102T010000
TZOFFSETFROM:-0500
TZOFFSETTO:-0600
TZNAME:CST
END:STANDARD
END:VTIMEZONE
END:VCALENDAR