BEGIN:VCALENDAR
VERSION:2.0
PRODID:-//wp-events-plugin.com//7.2.3.1//EN
TZID:America/Chicago
X-WR-TIMEZONE:America/Chicago
BEGIN:VEVENT
UID:485@vfw9662.org
DTSTART;TZID=America/Chicago:20260328T130000
DTEND;TZID=America/Chicago:20260328T234900
DTSTAMP:20260311T213236Z
URL:https://vfw9662.org/events/texas-hold-em-tournament/
SUMMARY:Texas Hold 'Em Tournament
DESCRIPTION:$50 per player CASH ENTRY ONLY\nNO REBUYS\n12:00 Registration b
 egins\n1:00 Tournament starts and will finish no later than midnight.\n* M
 UST BE 21 TO PLAY *
ATTACH;FMTTYPE=image/jpeg:https://vfw9662.org/wp-content/uploads/2026/03/3
 28-pdf.jpg
LOCATION:VFW Post 9662\, 1309 NE 66th Ave\, Des Moines\, IA\, 50313\, Unite
 d States
X-APPLE-STRUCTURED-LOCATION;VALUE=URI;X-ADDRESS=1309 NE 66th Ave\, Des Moin
 es\, IA\, 50313\, United States;X-APPLE-RADIUS=100;X-TITLE=VFW Post 9662:g
 eo:0,0
END:VEVENT
BEGIN:VTIMEZONE
TZID:America/Chicago
X-LIC-LOCATION:America/Chicago
BEGIN:DAYLIGHT
DTSTART:20260308T030000
TZOFFSETFROM:-0600
TZOFFSETTO:-0500
TZNAME:CDT
END:DAYLIGHT
END:VTIMEZONE
END:VCALENDAR