BEGIN:VCALENDAR
VERSION:2.0
PRODID:-//wp-events-plugin.com//7.2.3.1//EN
TZID:America/Chicago
X-WR-TIMEZONE:America/Chicago
BEGIN:VEVENT
UID:370@vfw9662.org
DTSTART;TZID=America/Chicago:20260208T160000
DTEND;TZID=America/Chicago:20260208T210000
DTSTAMP:20260121T224317Z
URL:https://vfw9662.org/events/super-bowl-watch-party/
SUMMARY:Super Bowl Watch Party
DESCRIPTION:Let the VFW host your Super Bowl party!  We open at 4:00\, kic
 koff at 5:30. Bring your favorite tailgate potluck food\, free will donati
 on.
ATTACH;FMTTYPE=image/jpeg:https://vfw9662.org/wp-content/uploads/2025/12/S
 uper-Bowl-2026-pdf.jpg
LOCATION:VFW Post 9662\, 1309 NE 66th Ave\, Des Moines\, IA\, 50313\, Unite
 d States
X-APPLE-STRUCTURED-LOCATION;VALUE=URI;X-ADDRESS=1309 NE 66th Ave\, Des Moin
 es\, IA\, 50313\, United States;X-APPLE-RADIUS=100;X-TITLE=VFW Post 9662:g
 eo:0,0
END:VEVENT
BEGIN:VTIMEZONE
TZID:America/Chicago
X-LIC-LOCATION:America/Chicago
BEGIN:STANDARD
DTSTART:20251102T010000
TZOFFSETFROM:-0500
TZOFFSETTO:-0600
TZNAME:CST
END:STANDARD
END:VTIMEZONE
END:VCALENDAR