BEGIN:VCALENDAR
VERSION:2.0
PRODID:-//wp-events-plugin.com//7.2.3.1//EN
TZID:America/Chicago
X-WR-TIMEZONE:America/Chicago
BEGIN:VEVENT
UID:360@vfw9662.org
DTSTART;TZID=America/Chicago:20251126T150000
DTEND;TZID=America/Chicago:20251126T180000
DTSTAMP:20251119T210439Z
URL:https://vfw9662.org/events/friendsgiving/
SUMMARY:FriendsGiving
DESCRIPTION:Friends in town for Thanksgiving?  Lets meet at the VFW!  Gre
 at atmosphere\, full bar (and a bartender that makes one heck of a margari
 ta or long island) and comfortable atmosphere to catch up!  Join us from 
 3:00-6:00 for happy hour and help support our Veterans by stopping by! You
 've always got a home at the VFW.
ATTACH;FMTTYPE=image/jpeg:https://vfw9662.org/wp-content/uploads/2025/11/1
 12625-pdf.jpg
LOCATION:VFW Post 9662\, 1309 NE 66th Ave\, Des Moines\, IA\, 50313\, Unite
 d States
X-APPLE-STRUCTURED-LOCATION;VALUE=URI;X-ADDRESS=1309 NE 66th Ave\, Des Moin
 es\, IA\, 50313\, United States;X-APPLE-RADIUS=100;X-TITLE=VFW Post 9662:g
 eo:0,0
END:VEVENT
BEGIN:VTIMEZONE
TZID:America/Chicago
X-LIC-LOCATION:America/Chicago
BEGIN:STANDARD
DTSTART:20251102T010000
TZOFFSETFROM:-0500
TZOFFSETTO:-0600
TZNAME:CST
END:STANDARD
END:VTIMEZONE
END:VCALENDAR