BEGIN:VCALENDAR
VERSION:2.0
PRODID:-//wp-events-plugin.com//7.2.3.1//EN
TZID:America/Chicago
X-WR-TIMEZONE:America/Chicago
BEGIN:VEVENT
UID:367@vfw9662.org
DTSTART;TZID=America/Chicago:20251224T000000
DTEND;TZID=America/Chicago:20251225T000000
DTSTAMP:20251203T180740Z
URL:https://vfw9662.org/events/closed-christmas-eve-christmas-day/
SUMMARY:CLOSED CHRISTMAS EVE & CHRISTMAS DAY
DESCRIPTION:Enjoy the holiday with your friends and families.  Merry Chris
 tmas from VFW 9662
ATTACH;FMTTYPE=image/jpeg:https://vfw9662.org/wp-content/uploads/2025/12/C
 losed-2-pdf.jpg
LOCATION:VFW Post 9662\, 1309 NE 66th Ave\, Des Moines\, IA\, 50313\, Unite
 d States
X-APPLE-STRUCTURED-LOCATION;VALUE=URI;X-ADDRESS=1309 NE 66th Ave\, Des Moin
 es\, IA\, 50313\, United States;X-APPLE-RADIUS=100;X-TITLE=VFW Post 9662:g
 eo:0,0
END:VEVENT
BEGIN:VTIMEZONE
TZID:America/Chicago
X-LIC-LOCATION:America/Chicago
BEGIN:STANDARD
DTSTART:20251102T010000
TZOFFSETFROM:-0500
TZOFFSETTO:-0600
TZNAME:CST
END:STANDARD
END:VTIMEZONE
END:VCALENDAR