BEGIN:VCALENDAR
VERSION:2.0
PRODID:-//wp-events-plugin.com//7.2.3.1//EN
TZID:America/Chicago
X-WR-TIMEZONE:America/Chicago
BEGIN:VEVENT
UID:361@vfw9662.org
DTSTART;TZID=America/Chicago:20251128T100000
DTEND;TZID=America/Chicago:20251128T220000
DTSTAMP:20251119T210519Z
URL:https://vfw9662.org/events/black-friday-frenzy/
SUMMARY:Black Friday Frenzy
DESCRIPTION:Out shopping and need a break or just need a place to gather wi
 th friends to watch the games?  We have multiple TV's and will be streami
 ng Iowa vs. Nebraska 11:00 AM kickoff and Bears vs. Eagles 2:00 PM kickof
 f.\n\nLater we have BINGO\, card sales begin at 5:00 and games at 6:00.\n\
 n&nbsp\;
ATTACH;FMTTYPE=image/jpeg:https://vfw9662.org/wp-content/uploads/2025/11/1
 12825-1-pdf.jpg
LOCATION:VFW Post 9662\, 1309 NE 66th Ave\, Des Moines\, IA\, 50313\, Unite
 d States
X-APPLE-STRUCTURED-LOCATION;VALUE=URI;X-ADDRESS=1309 NE 66th Ave\, Des Moin
 es\, IA\, 50313\, United States;X-APPLE-RADIUS=100;X-TITLE=VFW Post 9662:g
 eo:0,0
END:VEVENT
BEGIN:VTIMEZONE
TZID:America/Chicago
X-LIC-LOCATION:America/Chicago
BEGIN:STANDARD
DTSTART:20251102T010000
TZOFFSETFROM:-0500
TZOFFSETTO:-0600
TZNAME:CST
END:STANDARD
END:VTIMEZONE
END:VCALENDAR