BEGIN:VCALENDAR
VERSION:2.0
PRODID:-//wp-events-plugin.com//7.2.3.1//EN
TZID:America/Chicago
X-WR-TIMEZONE:America/Chicago
BEGIN:VEVENT
UID:355@vfw9662.org
DTSTART;TZID=America/Chicago;VALUE=DATE:20260516
DTEND;TZID=America/Chicago;VALUE=DATE:20260517
DTSTAMP:20260310T210821Z
URL:https://vfw9662.org/events/2nd-annual-boline-manfredi-carney-open/
SUMMARY:2nd Annual Boline Manfredi Carney Open
DESCRIPTION:Join us for a fun and exciting golf tournament on May 16th at W
 oodland Hills!\n\n 	REGISTRATION will be through the VFW Post 9662 Golf Re
 gistration Form\n 	Sign up as a 4-person team or register solo and we’ll
  pair you up!\n 	$65 Per Person\n 	Registration due May 1\, 2026.\n 	Check
 -in begins at 8:15 AM at Woodland Hills (620 NE 66th Ave\, Des Moines\, IA
  50313)\n 	Shotgun start at 9:00 AM\n 	Meal is included\n 	Mulligans for s
 ale!\n\n&nbsp\;
ATTACH;FMTTYPE=image/jpeg:https://vfw9662.org/wp-content/uploads/2025/11/2
 025-05-10-Golf-flyer.2-pdf.jpg
LOCATION:Woodland Hills Golf Course\, 620 NE 66th Avenue\, Des Moines\, IA\
 , 50313\, United States
X-APPLE-STRUCTURED-LOCATION;VALUE=URI;X-ADDRESS=620 NE 66th Avenue\, Des Mo
 ines\, IA\, 50313\, United States;X-APPLE-RADIUS=100;X-TITLE=Woodland Hill
 s Golf Course:geo:0,0
END:VEVENT
BEGIN:VTIMEZONE
TZID:America/Chicago
X-LIC-LOCATION:America/Chicago
BEGIN:DAYLIGHT
DTSTART:20260308T030000
TZOFFSETFROM:-0600
TZOFFSETTO:-0500
TZNAME:CDT
END:DAYLIGHT
END:VTIMEZONE
END:VCALENDAR